BEGIN:VCALENDAR
VERSION:2.0
PRODID:-//wp-events-plugin.com//7.2.3.1//EN
BEGIN:VEVENT
UID:1019@artcenterofcitruscounty.org
DTSTART:20260506T230000Z
DTEND:20260507T010000Z
DTSTAMP:20260413T163611Z
URL:https://artcenterofcitruscounty.org/events/33356/
SUMMARY:IPHONE Photography Workshop
DESCRIPTION:
ATTACH;FMTTYPE=image/jpeg:https://artcenterofcitruscounty.org/wp-content/u
 ploads/2026/04/iPHONE-Photography-Workshop.jpg
CATEGORIES:Shutterbugs,Visual Arts
LOCATION:Art Center Art & Education Building\, 2644 N Annapolis Ave\, Herna
 ndo\, FL\, 34442\, United States
GEO:28.90106;-82.420383
X-APPLE-STRUCTURED-LOCATION;VALUE=URI;X-ADDRESS=2644 N Annapolis Ave\, Hern
 ando\, FL\, 34442\, United States;X-APPLE-RADIUS=100;X-TITLE=Art Center Ar
 t & Education Building:geo:28.90106,-82.420383
END:VEVENT
END:VCALENDAR