BEGIN:VCALENDAR
VERSION:2.0
PRODID:-//wp-events-plugin.com//7.2.3.1//EN
BEGIN:VEVENT
UID:1056@artcenterofcitruscounty.org
DTSTART:20270403T003000Z
DTEND:20270403T003000Z
DTSTAMP:20260414T190151Z
URL:https://artcenterofcitruscounty.org/events/art-center-theatre-presents
 -2027-04-02/
SUMMARY:Art Center Theatre Presents: Foolish Fish Girls and the Pearl
DESCRIPTION:\n\nFoolish Fish Girls and the Pearl – April 2\, 3\, 4\, 9\, 
 10\, 11\nConcord Theatricals comedy\, by Barbara Pease Weber\nSynopsis: Tw
 o former deep-sea divas\, Coral and Oceana\, didn’t exactly have the “
 happily ever after” storybook lives the erstwhile mermaids envisioned. T
 his feisty fairy tale explores a mermaid’s life on dry land after true l
 ove is found\, lost\, and found again.
ATTACH;FMTTYPE=image/jpeg:https://artcenterofcitruscounty.org/wp-content/u
 ploads/2026/02/page07-1-scaled.jpg
CATEGORIES:2026-27 Season Plays,Comedy
LOCATION:Art Center Theatre\, 2644 N Annapolis Ave\, Hernando\, FL 34442\, 
 Hernando\, FL\, 34442\, United States
GEO:28.90106;-82.420383
X-APPLE-STRUCTURED-LOCATION;VALUE=URI;X-ADDRESS=2644 N Annapolis Ave\, Hern
 ando\, FL 34442\, Hernando\, FL\, 34442\, United States;X-APPLE-RADIUS=100
 ;X-TITLE=Art Center Theatre:geo:28.90106,-82.420383
END:VEVENT
END:VCALENDAR