BEGIN:VCALENDAR
VERSION:2.0
PRODID:-//wp-events-plugin.com//7.2.3.1//EN
BEGIN:VEVENT
UID:1032@artcenterofcitruscounty.org
DTSTART:20261108T190000Z
DTEND:20261108T210000Z
DTSTAMP:20260414T181353Z
URL:https://artcenterofcitruscounty.org/events/art-center-theatre-presents
 -love-thy-neighbor-comedy-book-by-gary-ray-stapp-2-2026-11-08/
SUMMARY:Art Center Theatre Presents: Love thy Neighbor\, Comedy\, Book By: 
 Gary Ray Stapp
DESCRIPTION:Love thy Neighbor – Nov 6\, 7\, 8\, 13\, 14\, 15\nEldridge Pu
 blishing comedy\, Book By: Gary Ray Stapp\, Synopsis: Leona Crump\, a hype
 r-judgmental homeowner armed with binoculars and nerves of steel\, panics 
 when a bizarre “hill folk” family moves in across the street. Gafina\,
  her gum popping mother “Maw\,” love struck Turner\, and wild sister B
 ambi quickly turned Leona’s quiet cul-de-sac upside down. While Leona vo
 ws to drive them out\, her lazy husband and clueless neighbors offer no he
 lp. Add in a parade of annoying visitors\, from the mailman to an Avon lad
 y\, and Leona reaches her breaking point. After a showdown involving pink 
 flamingos lands her in jail\, the question remains: will she finally recla
 im her neighborhood\, or will the newcomers\, and her own weed eater\, win
  the battle?
ATTACH;FMTTYPE=image/jpeg:https://artcenterofcitruscounty.org/wp-content/u
 ploads/2026/02/page03-1-scaled.jpg
CATEGORIES:2026-27 Season Plays,Comedy
LOCATION:Art Center Theatre\, 2644 N Annapolis Ave\, Hernando\, FL 34442\, 
 Hernando\, FL\, 34442\, United States
GEO:28.90106;-82.420383
X-APPLE-STRUCTURED-LOCATION;VALUE=URI;X-ADDRESS=2644 N Annapolis Ave\, Hern
 ando\, FL 34442\, Hernando\, FL\, 34442\, United States;X-APPLE-RADIUS=100
 ;X-TITLE=Art Center Theatre:geo:28.90106,-82.420383
END:VEVENT
END:VCALENDAR