BEGIN:VCALENDAR
VERSION:2.0
PRODID:-//wp-events-plugin.com//7.2.3.1//EN
BEGIN:VEVENT
UID:1028@artcenterofcitruscounty.org
DTSTART:20261108T003000Z
DTEND:20261108T023000Z
DTSTAMP:20260414T181105Z
URL:https://artcenterofcitruscounty.org/events/art-center-theatre-presents
 -love-thy-neighbor-comedy-book-by-gary-ray-stapp-2026-11-06-2026-11-07/
SUMMARY:Art Center Theatre Presents: Love thy Neighbor\, Comedy\, Book By: 
 Gary Ray Stapp
DESCRIPTION:\n\nLove thy Neighbor – Nov 6\, 7\, 8\, 13\, 14\, 15\n\nEldri
 dge Publishing comedy\, Book By: Gary Ray Stapp\, Synopsis: Leona Crump\, 
 a hyper-judgmental homeowner armed with binoculars and nerves of steel\, p
 anics when a bizarre “hill folk” family moves in across the street. Ga
 fina\, her gum popping mother “Maw\,” love struck Turner\, and wild si
 ster Bambi quickly turned Leona’s quiet cul-de-sac upside down. While Le
 ona vows to drive them out\, her lazy husband and clueless neighbors offer
  no help. Add in a parade of annoying visitors\, from the mailman to an Av
 on lady\, and Leona reaches her breaking poi\n\nnt. After a showdown invol
 ving pink flamingos lands her in jail\, the question remains: will she fin
 ally reclaim her neighborhood\, or will the newcomers\, and her own weed e
 ater\, win the battle?
ATTACH;FMTTYPE=image/jpeg:https://artcenterofcitruscounty.org/wp-content/u
 ploads/2026/02/page03-1-scaled.jpg
CATEGORIES:2026-27 Season Plays,Comedy
LOCATION:Art Center Theatre\, 2644 N Annapolis Ave\, Hernando\, FL 34442\, 
 Hernando\, FL\, 34442\, United States
GEO:28.90106;-82.420383
X-APPLE-STRUCTURED-LOCATION;VALUE=URI;X-ADDRESS=2644 N Annapolis Ave\, Hern
 ando\, FL 34442\, Hernando\, FL\, 34442\, United States;X-APPLE-RADIUS=100
 ;X-TITLE=Art Center Theatre:geo:28.90106,-82.420383
END:VEVENT
END:VCALENDAR