BEGIN:VCALENDAR
VERSION:2.0
PRODID:-//wp-events-plugin.com//7.2.3.1//EN
BEGIN:VEVENT
UID:719@artcenterofcitruscounty.org
DTSTART:20260315T190000Z
DTEND:20260315T220000Z
DTSTAMP:20250219T162711Z
URL:https://artcenterofcitruscounty.org/events/art-center-theatre-presents
 -lucky-stiff-musical-2-2026-03-15/
SUMMARY:Art Center Theatre Presents: Lucky Stiff\, Musical
DESCRIPTION:Synopsis\nLucky Stiff is a madcap\, hilarious romp of a musical
  that follows Harry Witherspoon’s journey from England to Monte Carlo…
 with a rather unusual traveling companion. Based on Michael Butterworth’
 s novel\, The Man Who Broke the Bank at Monte Carlo\, Harry receives the u
 nexpected news that he has inherited a fortune from his late Uncle Anthony
 \, on the condition that he takes Anthony’s dead body on a special trip 
 to Monte Carlo. If Harry fails\, the money will go to the Universal Dog Ho
 me of Brooklyn. However\, also hot on the tail of Uncle Anthony’s money 
 is Rita\, Anthony’s lover with whom he embezzled $6 million behind her h
 usband’s back. And hot on Rita’s trail is her brother Vinnie\, who has
  been blamed for the crime! With mistaken identities\, love interests\, di
 sguises\, farcical chases\, and an omnipresent corpse\, Lucky Stiff is an 
 offbeat murder mystery with a difference.\n\n.
ATTACH;FMTTYPE=image/jpeg:https://artcenterofcitruscounty.org/wp-content/u
 ploads/2025/02/page01-2-scaled.jpg
CATEGORIES:2025-26 Season Plays,Art Center Theatre,Musicals
LOCATION:Art Center Theatre\, 2644 N Annapolis Ave\, Hernando\, FL 34442\, 
 Hernando\, FL\, 34442\, United States
GEO:28.90106;-82.420383
X-APPLE-STRUCTURED-LOCATION;VALUE=URI;X-ADDRESS=2644 N Annapolis Ave\, Hern
 ando\, FL 34442\, Hernando\, FL\, 34442\, United States;X-APPLE-RADIUS=100
 ;X-TITLE=Art Center Theatre:geo:28.90106,-82.420383
END:VEVENT
END:VCALENDAR