BEGIN:VCALENDAR
VERSION:2.0
PRODID:-//wp-events-plugin.com//7.2.3.1//EN
BEGIN:VEVENT
UID:1009@artcenterofcitruscounty.org
DTSTART:20260726T190000Z
DTEND:20260726T220000Z
DTSTAMP:20260412T162957Z
URL:https://artcenterofcitruscounty.org/events/art-center-theatre-presents
 -mary-poppins-the-broadway-musical-2-2026-07-19-2026-07-26/
SUMMARY:Art Center Theatre Presents: Mary Poppins The Broadway Musical
DESCRIPTION:
ATTACH;FMTTYPE=image/jpeg:https://artcenterofcitruscounty.org/wp-content/u
 ploads/2026/04/Mary-Poppins-Poster-11x17-1-scaled.jpg
CATEGORIES:2026-27 Season Plays,Art Center Theatre,Musical
LOCATION:Art Center Theatre\, 2644 N Annapolis Ave\, Hernando\, FL 34442\, 
 Hernando\, FL\, 34442\, United States
GEO:28.90106;-82.420383
X-APPLE-STRUCTURED-LOCATION;VALUE=URI;X-ADDRESS=2644 N Annapolis Ave\, Hern
 ando\, FL 34442\, Hernando\, FL\, 34442\, United States;X-APPLE-RADIUS=100
 ;X-TITLE=Art Center Theatre:geo:28.90106,-82.420383
END:VEVENT
END:VCALENDAR