BEGIN:VCALENDAR
VERSION:2.0
PRODID:-//wp-events-plugin.com//7.2.3.1//EN
BEGIN:VEVENT
UID:1038@artcenterofcitruscounty.org
DTSTART:20270124T003000Z
DTEND:20270124T023000Z
DTSTAMP:20260414T182016Z
URL:https://artcenterofcitruscounty.org/events/art-center-theatre-presents
 -musical-meshuggah-nuns-2027-01-15-2027-01-16-2027-01-22-2027-01-23/
SUMMARY:Art Center Theatre Presents: Musical – Meshuggah-Nuns!
DESCRIPTION:\n\nMusical – Meshuggah-Nuns! – Jan 15\, 16\, 17\, 22\, 23\
 , 24\nConcord Theatricals – Book\, Music &amp\; Lyrics by Dan Goggin\, M
 usical\, Comedy\nSynopsis: The Little Sisters of Hoboken return in an inte
 rfaith shipboard musical comedy! The Kunkels (the poor family living behin
 d Mount St. Helen’s School) have won the lottery and gifted the Sisters 
 an all-expense-paid trip on the “Faiths of All Nations” Cruise. After 
 a week at sea\, the ship runs into a storm. Several people become ill\, in
 cluding all of the actors in the ship’s production of Fiddler on the Roo
 f. (All except the actor playing Tevye\, that is.) The captain of the ship
 \, knowing of the Sisters’ show-biz savvy\, requests that the Sisters an
 d Tevye put on a revue. The result: Meshuggah-Nuns! The Ecumenical Nunsens
 e.
ATTACH;FMTTYPE=image/jpeg:https://artcenterofcitruscounty.org/wp-content/u
 ploads/2026/02/page05-scaled.jpg
CATEGORIES:2026-27 Season Plays,Musicals
LOCATION:Art Center Theatre\, 2644 N Annapolis Ave\, Hernando\, FL 34442\, 
 Hernando\, FL\, 34442\, United States
GEO:28.90106;-82.420383
X-APPLE-STRUCTURED-LOCATION;VALUE=URI;X-ADDRESS=2644 N Annapolis Ave\, Hern
 ando\, FL 34442\, Hernando\, FL\, 34442\, United States;X-APPLE-RADIUS=100
 ;X-TITLE=Art Center Theatre:geo:28.90106,-82.420383
END:VEVENT
END:VCALENDAR