BEGIN:VCALENDAR
VERSION:2.0
PRODID:-//wp-events-plugin.com//7.2.3.1//EN
BEGIN:VEVENT
UID:888@artcenterofcitruscounty.org
DTSTART:20260425T003000Z
DTEND:20260425T023000Z
DTSTAMP:20260216T193943Z
URL:https://artcenterofcitruscounty.org/events/art-center-theatre-presents
 -packing-up-polly-comedy-2026-04-10-2026-04-17-2026-04-24/
SUMMARY:Art Center Theatre Presents: Packing Up Polly\, Comedy
DESCRIPTION:\n\n\n\n\nPolly Porter\, famous 1970s gospel singer of the grou
 p Polly Porter &amp\; the Praise His Name Singers\, has gone on up to heav
 en. Her daughter\, Caroline\, has come home to Savannah\, Georgia\, to pac
 k up Miss Polly’s house\, but there is just one little problem (or two o
 r three): Miss Polly was an extreme hoarder of epic proportions\, Caroline
 ’s useless siblings are totally MIA\, and her three best friends from hi
 gh school\, former co-cheerleaders\, have all shown up… unannounced! Liz
 zy now owns the Miss Georgia Belle Pageantry system\, Donna Jo is the loca
 l community theatre diva\, and Becca is having a late-in-life geriatric pr
 egnancy with baby girl number five. The gospel music plays and the margari
 tas pour as the four ladies laugh\, cry\, scream and come together to pack
  up Miss Polly’s house\, heal old wounds\, and make new plans for their 
 future.\n\nWith humor\, wit and vulnerability\, Packing Up Polly delves in
 to themes of forgiveness\, acceptance and the transformative power of lett
 ing go… unpacking the layers of our own lives to find healing and redemp
 tion.\n\n\n
ATTACH;FMTTYPE=image/jpeg:https://artcenterofcitruscounty.org/wp-content/u
 ploads/2026/02/page01-scaled.jpg
CATEGORIES:2025-26 Season Plays,Art Center Theatre,Comedy
LOCATION:Art Center Theatre\, 2644 N Annapolis Ave\, Hernando\, FL 34442\, 
 Hernando\, FL\, 34442\, United States
GEO:28.90106;-82.420383
X-APPLE-STRUCTURED-LOCATION;VALUE=URI;X-ADDRESS=2644 N Annapolis Ave\, Hern
 ando\, FL 34442\, Hernando\, FL\, 34442\, United States;X-APPLE-RADIUS=100
 ;X-TITLE=Art Center Theatre:geo:28.90106,-82.420383
END:VEVENT
END:VCALENDAR