BEGIN:VCALENDAR
VERSION:2.0
PRODID:-//wp-events-plugin.com//7.2.3.1//EN
BEGIN:VEVENT
UID:1054@artcenterofcitruscounty.org
DTSTART:20270228T190000Z
DTEND:20270228T210000Z
DTSTAMP:20260414T184510Z
URL:https://artcenterofcitruscounty.org/events/art-center-theatre-presents
 -sense-and-sensibility-2-2027-02-21-2027-02-28/
SUMMARY:Art Center Theatre Presents: Sense and Sensibility
DESCRIPTION:\n\nSense and Sensibility Feb 19\, 20\, 21\, 26\, 27\, 28\nConc
 ord Theatricals Drama\, by Kate Hamill\nSynopsis: A playful new adaptation
  of Jane Austen’s beloved novel follows the fortunes (and misfortunes) o
 f the Dashwood sisters—sensible Elinor and hypersensitive Marianne—aft
 er their father’s sudden death leaves them financially destitute and soc
 ially vulnerable. Set in gossipy late 18th-century England\, with a fresh 
 female voice\, the play is full of humor\, emotional depth\, and bold thea
 tricality. SENSE AND SENSIBILITY examines our reactions\, both reasonable 
 and ridiculous\, to societal pressures. When reputation is everything\, ho
 w do you follow your heart?
ATTACH;FMTTYPE=image/jpeg:https://artcenterofcitruscounty.org/wp-content/u
 ploads/2026/02/page04-1-scaled.jpg
CATEGORIES:2026-27 Season Plays,Dramatic Comedy
LOCATION:Art Center Theatre\, 2644 N Annapolis Ave\, Hernando\, FL 34442\, 
 Hernando\, FL\, 34442\, United States
GEO:28.90106;-82.420383
X-APPLE-STRUCTURED-LOCATION;VALUE=URI;X-ADDRESS=2644 N Annapolis Ave\, Hern
 ando\, FL 34442\, Hernando\, FL\, 34442\, United States;X-APPLE-RADIUS=100
 ;X-TITLE=Art Center Theatre:geo:28.90106,-82.420383
END:VEVENT
END:VCALENDAR