BEGIN:VCALENDAR
VERSION:2.0
PRODID:-//wp-events-plugin.com//7.2.3.1//EN
BEGIN:VEVENT
UID:1020@artcenterofcitruscounty.org
DTSTART:20261003T003000Z
DTEND:20261003T023000Z
DTSTAMP:20260414T173124Z
URL:https://artcenterofcitruscounty.org/events/art-center-theatre-presents
 -two-witches-no-waiting-comedy-by-pat-cook/
SUMMARY:Art Center Theatre Presents: Two Witches\, No Waiting\, Comedy By P
 at Cook
DESCRIPTION:\n\nComedy Two Witches\, No Waiting – Oct 2\, 3\, 4\, 9\, 10\
 , 11\nDramatic Publishing comedy\, By Pat Cook\nSynopsis: Rumored witches 
 Arlene and Elzbeth Marcus face chaos when their housekeeper vanishes\, a p
 ushy buyer targets their strange home\, and a new maid with secrets arrive
 s. With spying owls\, flying closets\, and a house that seems alive\, Two 
 Witches\, No Waiting delivers supernatural comedy at full speed.\n\n&nbsp\
 ;
ATTACH;FMTTYPE=image/jpeg:https://artcenterofcitruscounty.org/wp-content/u
 ploads/2026/02/page02-2-scaled.jpg
CATEGORIES:2026-27 Season Plays,Comedy
LOCATION:Art Center Theatre\, 2644 N Annapolis Ave\, Hernando\, FL 34442\, 
 Hernando\, FL\, 34442\, United States
GEO:28.90106;-82.420383
X-APPLE-STRUCTURED-LOCATION;VALUE=URI;X-ADDRESS=2644 N Annapolis Ave\, Hern
 ando\, FL 34442\, Hernando\, FL\, 34442\, United States;X-APPLE-RADIUS=100
 ;X-TITLE=Art Center Theatre:geo:28.90106,-82.420383
END:VEVENT
END:VCALENDAR