BEGIN:VCALENDAR
VERSION:2.0
PRODID:-//wp-events-plugin.com//7.2.3.1//EN
BEGIN:VEVENT
UID:738@artcenterofcitruscounty.org
DTSTART:20250628T190000Z
DTEND:20250628T210000Z
DTSTAMP:20250523T222943Z
URL:https://artcenterofcitruscounty.org/events/art-center-youth-theatre-pr
 esents-holy-mother-of-bingo-2/
SUMMARY:Art Center Youth Theatre Presents: Holy Mother of Bingo
DESCRIPTION:Of course you’ve heard of dinner theatre\, but have you ever 
 thought about BINGO THEATRE?! Your audience will love playing five actual 
 rounds of bingo while this outrageous murder mystery unfolds around them!\
 n\nAn innocent bingo fundraiser at the Our Mother of Mercy church goes awr
 y when parishioners mysteriously drop dead! The evidence suggests well-cal
 culated murders\, but who is to blame? Tensions rise as everyone begins id
 entifying suspects. Past feuds rear their heads as the members of the pari
 sh try to state their innocence one by one. Who could be behind the elabor
 ate spree? The disgruntled choir director? The magician turned youth minis
 ter? The ex-convict that has recently turned to the power of prayer? It co
 uldn’t be one of the Cookie Cadets selling their beloved cookies! Everyo
 ne’s a suspect... even the audience in the zany comedy that takes intera
 ctive theatre (and fundraising opportunities!) to a whole new level!\n\n&n
 bsp\;\n\n&nbsp\;\n\n\n\n
ATTACH;FMTTYPE=image/jpeg:https://artcenterofcitruscounty.org/wp-content/u
 ploads/2025/05/page01-2-scaled.jpg
CATEGORIES:Art Center Theatre,Art Center Youth Theatre
LOCATION:Art Center Art & Education Building\, 2644 N Annapolis Ave\, Herna
 ndo\, FL\, 34442\, United States
GEO:28.90106;-82.420383
X-APPLE-STRUCTURED-LOCATION;VALUE=URI;X-ADDRESS=2644 N Annapolis Ave\, Hern
 ando\, FL\, 34442\, United States;X-APPLE-RADIUS=100;X-TITLE=Art Center Ar
 t & Education Building:geo:28.90106,-82.420383
END:VEVENT
END:VCALENDAR