BEGIN:VCALENDAR
VERSION:2.0
PRODID:-//wp-events-plugin.com//7.2.3.1//EN
BEGIN:VEVENT
UID:763@artcenterofcitruscounty.org
DTSTART:20250713T230000Z
DTEND:20250714T010000Z
DTSTAMP:20250430T124435Z
URL:https://artcenterofcitruscounty.org/events/auditions-psych-dramatic-pu
 blishing-lisa-rowe-comedy-farce/
SUMMARY:AUDITIONS Psych\, Dramatic Publishing\, Lisa Rowe. Comedy/Farce
DESCRIPTION:Psych\, Dramatic Publishing\, Lisa Rowe. Comedy/Farce\n\nDIRECT
 ED BY Juno Payne-Umbehant\n\nCast size: 4m.\, 2w.\, 1 either gender. (Sev
 eral of the characters may have their genders reversed\, if necessary.)\n\
 nSynopsis\nEdward Baxter was a successful psychiatrist\, beloved by his ma
 ny patients—until he was framed for murder. Now on the run with an assum
 ed identity and a suspicious new wife\, his luck is running out. Edward se
 eks help from Dr. Robert Smith\, a fellow psychiatrist and a man with inne
 r demons of his own. When Edward’s meeting with Dr. Smith goes wildly aw
 ry and leaves Edward clinging precariously to his last shred of sanity\, D
 r. Smith’s patient Lydia (a goodhearted psychic woman with clues to Edwa
 rd’s past) arrives for her appointment to find Edward in big trouble. De
 spite the chaos created by unexpected visitors and quirks in Lydia’s psy
 chic powers\, Lydia does her best to gain Edward’s trust and help him fi
 nd justice as his world rapidly approaches critical mass. Psych’s humor 
 is broad in scope\, including slapstick\, wordplay and a bit of dark humor
 .\n\n\n\n
CATEGORIES:Art Center Theatre,Auditions,Comedy
END:VEVENT
END:VCALENDAR