BEGIN:VCALENDAR
VERSION:2.0
PRODID:-//wp-events-plugin.com//7.2.3.1//EN
BEGIN:VEVENT
UID:853@artcenterofcitruscounty.org
DTSTART:20260114T150000Z
DTEND:20260114T180000Z
DTSTAMP:20260105T193525Z
URL:https://artcenterofcitruscounty.org/events/call-for-art-nature-coast-e
 xhibit-no-3/
SUMMARY:CALL FOR ART – Nature Coast Exhibit NO. 3
DESCRIPTION:CALL FOR ART – Nature Coast Exhibit NO. 3 Our next juried sh
 ow is in January\, Drop off Date is Jan. 14\, 2026 from 10 am – 1 pm\, n
 o early birds please. Or late comers. Open to local artists (members or n
 ot yet members). Due to the  increase in art being submitted\, we may onl
 y accept two (2) pieces of art per artist. We also have a new category\, 
 Themed Art – for the upcoming play Miss Magnolia. If you enter a piece o
 f art that is directly  tied in with the play\, you could win tickets to 
 the play! This artwork can/will also be in the juried show. *There must be
  at least three (3) artists who enter in order for this category to be eli
 gible. Please READ the Prospectus on our website\, PRIOR to bringing yo
 ur art to the art center. It must be properly hung for gallery. Thank you
 ! and Good Luck!\n\nPlease follow the guidelines listed on our website in 
 the Prospectus.\nhttps://artcenterofcitruscounty.org/nature-coast-exhibit-
 prospectus/
ATTACH;FMTTYPE=image/jpeg:https://artcenterofcitruscounty.org/wp-content/u
 ploads/2025/12/1000009968.jpg
CATEGORIES:Art Gallery,Call to Artist,Visual Arts
LOCATION:Art Center Art & Education Building\, 2644 N Annapolis Ave\, Herna
 ndo\, FL\, 34442\, United States
GEO:28.90106;-82.420383
X-APPLE-STRUCTURED-LOCATION;VALUE=URI;X-ADDRESS=2644 N Annapolis Ave\, Hern
 ando\, FL\, 34442\, United States;X-APPLE-RADIUS=100;X-TITLE=Art Center Ar
 t & Education Building:geo:28.90106,-82.420383
END:VEVENT
END:VCALENDAR