BEGIN:VCALENDAR
VERSION:2.0
PRODID:-//wp-events-plugin.com//7.2.3.1//EN
BEGIN:VEVENT
UID:998@artcenterofcitruscounty.org
DTSTART:20260614T140000Z
DTEND:20260614T210000Z
DTSTAMP:20260418T173951Z
URL:https://artcenterofcitruscounty.org/events/june-13-14-show-sale-of-ori
 ginal-watercolor-paintings-prints-cards-by-members-2/
SUMMARY:June 13-14 Show & Sale of Original Watercolor Paintings\, Prints & 
 Cards by Members
DESCRIPTION:CITRUS WATERCOLOR SOCIETY presents:\n\n\n\nDates &amp\; Times\n
 \n• Saturday\, June 13: 9:00am – 5:00pm\n\n• Sunday\, June 14: 9:00a
 m – 4:00pm\n\nLocation Art Center of Citrus County Education Building\
 n\n2644 N Annapolis Ave\, Hernando\, FL 34442\n\nEvent Details\n\n• Admi
 ssion: No Admission Charge to Art Show!\n\n• Description: Show &amp\; Sa
 le of Original Watercolor Paintings\, Prints &amp\; Cards by Members
ATTACH;FMTTYPE=image/jpeg:https://artcenterofcitruscounty.org/wp-content/u
 ploads/2026/03/IMG_9507.jpeg
CATEGORIES:Show &amp; Sale
LOCATION:Art Center Art & Education Building\, 2644 N Annapolis Ave\, Herna
 ndo\, FL\, 34442\, United States
GEO:28.90106;-82.420383
X-APPLE-STRUCTURED-LOCATION;VALUE=URI;X-ADDRESS=2644 N Annapolis Ave\, Hern
 ando\, FL\, 34442\, United States;X-APPLE-RADIUS=100;X-TITLE=Art Center Ar
 t & Education Building:geo:28.90106,-82.420383
END:VEVENT
END:VCALENDAR