BEGIN:VCALENDAR
VERSION:2.0
PRODID:-//wp-events-plugin.com//7.2.3.1//EN
BEGIN:VEVENT
UID:1000@artcenterofcitruscounty.org
DTSTART:20260425T180000Z
DTEND:20260425T200000Z
DTSTAMP:20260418T174109Z
URL:https://artcenterofcitruscounty.org/events/shutter-bugs-call-to-photog
 raphers-intake-will-take-place-on-friday-april-25-from-100-to-300-pm-at-th
 e-art-center/
SUMMARY:Shutter Bugs Call to Photographers: Intake will take place on Frida
 y\, April 25\, from 1:00 to 3:00 PM at the Art Center
DESCRIPTION:The Art Center of Citrus County\, in partnership with the Art C
 enter Shutterbugs\, is pleased to announce Celebrating the Art of Photogr
 aphy\, a month-long photography exhibition celebrating National Photograph
 y Month. The exhibition will be on display May 1 through May 29 at the Art
  Center (2644 N Annapolis Ave) and will showcase a diverse collection of p
 hotographic work highlighting creativity\, technical skill\, and artistic 
 vision.\n\nAn Opening Reception will take place on Friday\, May 1\, from 6
 :30 to 8:30 PM at the Art Center. The public is invited to attend\, meet t
 he photographers\, and enjoy the opening of the exhibition.\n\n
ATTACH;FMTTYPE=image/jpeg:https://artcenterofcitruscounty.org/wp-content/u
 ploads/2026/02/Art-Center-Shutter-bugs.jpg
CATEGORIES:Camera Club,Shutterbugs
LOCATION:Art Center Art & Education Building\, 2644 N Annapolis Ave\, Herna
 ndo\, FL\, 34442\, United States
GEO:28.90106;-82.420383
X-APPLE-STRUCTURED-LOCATION;VALUE=URI;X-ADDRESS=2644 N Annapolis Ave\, Hern
 ando\, FL\, 34442\, United States;X-APPLE-RADIUS=100;X-TITLE=Art Center Ar
 t & Education Building:geo:28.90106,-82.420383
END:VEVENT
END:VCALENDAR