BEGIN:VCALENDAR
VERSION:2.0
PRODID:-//wp-events-plugin.com//7.2.3.1//EN
BEGIN:VEVENT
UID:378@artcenterofcitruscounty.org
DTSTART:20250507T143000Z
DTEND:20250507T183000Z
DTSTAMP:20241115T173001Z
URL:https://artcenterofcitruscounty.org/events/we-paint-social-group-2025-
 05-07/
SUMMARY:We Paint Social Group
DESCRIPTION:Join the We Paint Group Wednesday mornings to mid afternoon\, a
 ny skill level—beginner to advanced. This is a social painting group whe
 re you DYOT (do-your-own-thing). Bring your own tools and materials\, pack
  a lunch\, there will be fun and great camaraderie—so join us. All you n
 eed to do is be a member ($45 annually beginning Sept. 1 each year) by cal
 ling 746-7606 to register for the group or try it out as a guest for one v
 isit and see how much learning and laughing in Art can be.
ATTACH;FMTTYPE=image/jpeg:https://artcenterofcitruscounty.org/wp-content/u
 ploads/2024/09/page01-3-scaled.jpg
CATEGORIES:Wednesday We Paint Group
LOCATION:Art Center Art & Education Building\, 2644 N Annapolis Ave\, Herna
 ndo\, FL\, 34442\, United States
GEO:28.90106;-82.420383
X-APPLE-STRUCTURED-LOCATION;VALUE=URI;X-ADDRESS=2644 N Annapolis Ave\, Hern
 ando\, FL\, 34442\, United States;X-APPLE-RADIUS=100;X-TITLE=Art Center Ar
 t & Education Building:geo:28.90106,-82.420383
END:VEVENT
END:VCALENDAR