BEGIN:VCALENDAR
VERSION:2.0
PRODID:-//wp-events-plugin.com//7.2.3.1//EN
BEGIN:VEVENT
UID:779@artcenterofcitruscounty.org
DTSTART:20251008T223000Z
DTEND:20251009T010000Z
DTSTAMP:20250924T154255Z
URL:https://artcenterofcitruscounty.org/events/welcome-back-pot-luck-dinne
 r/
SUMMARY:Welcome Back Pot Luck Dinner
DESCRIPTION:
CATEGORIES:Dinners
LOCATION:Art Center Theatre\, 2644 N Annapolis Ave\, Hernando\, FL 34442\, 
 Hernando\, FL\, 34442\, United States
GEO:28.90106;-82.420383
X-APPLE-STRUCTURED-LOCATION;VALUE=URI;X-ADDRESS=2644 N Annapolis Ave\, Hern
 ando\, FL 34442\, Hernando\, FL\, 34442\, United States;X-APPLE-RADIUS=100
 ;X-TITLE=Art Center Theatre:geo:28.90106,-82.420383
END:VEVENT
END:VCALENDAR